BEGIN:VCALENDAR
VERSION:2.0
PRODID:-//ChamberMaster//Event Calendar 2.0//EN
METHOD:PUBLISH
X-PUBLISHED-TTL:P3D
REFRESH-INTERVAL:P3D
CALSCALE:GREGORIAN
BEGIN:VEVENT
DTSTART:20241213T160000Z
DTEND:20241213T210000Z
X-MICROSOFT-CDO-ALLDAYEVENT:FALSE
SUMMARY:TiPS Training for Alcoholic Beverage Servers
DESCRIPTION:TiPS is a dynamic\, skills-based training program designed to prevent patron over-intoxication\, drunk driving\, and underage drinking. TiPS gives beverage servers the knowledge and confidence they need to prevent alcohol-related tragedies.\n\n\n\nTiPS is a 4-5 hour class teaching servers how to:\n\n	Help stop drunk driving and other alcohol-related problems before they occur. Allow liquor retailers\, law enforcement\, elected officials\, and citizens to collaborate to solve common issues.\n	Effectively curb underage purchases and use of alcohol.\n	Train liquor retailers\, bartenders and servers how to deal with problem  situations. Give liquor retailers a thorough understanding of Wyoming law.\n	Enhance profits\, reduce expenses\, and make better tips while improving customer service.\n\nTraining is FREE - Registration due by Noon on December 10th. Session subject to cancellation based on # of RSVPs. To reserve a spot\, contact Tauna Groomsmith with the Fremont County Prevention Program.
X-ALT-DESC;FMTTYPE=text/html:TiPS is a dynamic\, skills-based training program designed to prevent patron over-intoxication\, drunk&nbsp\;driving\, and underage drinking. TiPS gives beverage servers the knowledge and confidence&nbsp\;they need to prevent alcohol-related tragedies.<br />\n<br />\nTiPS is a 4-5 hour class teaching servers how to:\n<ul>\n	<li>Help stop drunk driving and other alcohol-related problems before they occur. Allow liquor&nbsp\;retailers\, law enforcement\, elected officials\, and citizens to collaborate to solve common issues.</li>\n	<li>Effectively curb underage purchases and use of alcohol.</li>\n	<li>Train liquor retailers\, bartenders and servers how to deal with problem&nbsp\; situations. Give&nbsp\;liquor retailers a thorough understanding of Wyoming law.</li>\n	<li>Enhance profits\, reduce expenses\, and make better tips while improving customer service.</li>\n</ul>\nTraining is FREE - Registration due by Noon on December 10th. Session subject to cancellation&nbsp\;based on # of RSVPs. To reserve a spot\, contact Tauna Groomsmith with the Fremont County Prevention Program.
LOCATION:Fremont County Extension Office Court Room - Riverton
UID:e.1258.31521
SEQUENCE:3
DTSTAMP:20260425T034858Z
URL:http://landerchamber.chambermaster.com/events/details/tips-training-for-alcoholic-beverage-servers-31521
END:VEVENT

END:VCALENDAR
